BEGIN:VCALENDAR
VERSION:2.0
PRODID:-//Brew Central - ECPv6.15.20//NONSGML v1.0//EN
CALSCALE:GREGORIAN
METHOD:PUBLISH
X-ORIGINAL-URL:https://www.brewcentralny.com
X-WR-CALDESC:Events for Brew Central
REFRESH-INTERVAL;VALUE=DURATION:PT1H
X-Robots-Tag:noindex
X-PUBLISHED-TTL:PT1H
BEGIN:VTIMEZONE
TZID:America/New_York
BEGIN:DAYLIGHT
TZOFFSETFROM:-0500
TZOFFSETTO:-0400
TZNAME:EDT
DTSTART:20220313T070000
END:DAYLIGHT
BEGIN:STANDARD
TZOFFSETFROM:-0400
TZOFFSETTO:-0500
TZNAME:EST
DTSTART:20221106T060000
END:STANDARD
BEGIN:DAYLIGHT
TZOFFSETFROM:-0500
TZOFFSETTO:-0400
TZNAME:EDT
DTSTART:20230312T070000
END:DAYLIGHT
BEGIN:STANDARD
TZOFFSETFROM:-0400
TZOFFSETTO:-0500
TZNAME:EST
DTSTART:20231105T060000
END:STANDARD
BEGIN:DAYLIGHT
TZOFFSETFROM:-0500
TZOFFSETTO:-0400
TZNAME:EDT
DTSTART:20240310T070000
END:DAYLIGHT
BEGIN:STANDARD
TZOFFSETFROM:-0400
TZOFFSETTO:-0500
TZNAME:EST
DTSTART:20241103T060000
END:STANDARD
END:VTIMEZONE
BEGIN:VEVENT
DTSTART;VALUE=DATE:20230305
DTEND;VALUE=DATE:20230306
DTSTAMP:20260425T074046
CREATED:20230227T202219Z
LAST-MODIFIED:20230227T202219Z
UID:3419-1677974400-1678060799@www.brewcentralny.com
SUMMARY:Beer & Girl Scout Cookie Pairing
DESCRIPTION:Join us for an afternoon of craft beer from Willow Rock Brewing Company paired with Girl Scout cookies\, only available once a year. You’ll receive four 5 oz. samples of beer paired specifically with the cookies. These tickets will sell out fast\, so get them soon!
URL:https://www.brewcentralny.com/event/beer-girl-scout-cookie-pairing/
LOCATION:Willow Rock Brewing Company\, 115 Game Rd.\, Syracuse\, NY\, 13210\, United States
ATTACH;FMTTYPE=image/webp:https://www.brewcentralny.com/wp-content/uploads/2023/02/12a8e555d65c882a6200b876763b97a46d3900cf487356b4cded096904a8bfcd-rimg-w960-h480-gmir.webp
END:VEVENT
BEGIN:VEVENT
DTSTART;TZID=America/New_York:20230325T170000
DTEND;TZID=America/New_York:20230325T210000
DTSTAMP:20260425T074046
CREATED:20230227T203634Z
LAST-MODIFIED:20230227T203634Z
UID:3432-1679763600-1679778000@www.brewcentralny.com
SUMMARY:Binghamton On Tap
DESCRIPTION:Binghamton on Tap is back and heading to a new venue\, Visions Veterans Memorial Arena\, on March 25th! We’ll be serving up craft beers. hard ciders\, and spiked seltzers from your favorite breweries both locally and nationally! \nPlease note that this is a 21+ event! There will be no children\, toddlers\, or infants admitted to this event. \nDesignated driver tickets are available ahead of time with purchase of a drinking ticket. Designated driver ticket only includes access to the festival – 5:00 – 9:00pm.
URL:https://www.brewcentralny.com/event/binghamton-on-tap/
LOCATION:Visions Veterans Memorial Arena\, 1 Stuart St\, Binghamton\, NY\, 13901\, United States
ATTACH;FMTTYPE=image/jpeg:https://www.brewcentralny.com/wp-content/uploads/2023/02/Website-Image.jpg
END:VEVENT
BEGIN:VEVENT
DTSTART;TZID=America/New_York:20230328T190000
DTEND;TZID=America/New_York:20230328T210000
DTSTAMP:20260425T074046
CREATED:20230227T205217Z
LAST-MODIFIED:20230227T205217Z
UID:3445-1680030000-1680037200@www.brewcentralny.com
SUMMARY:Theology on Tap
DESCRIPTION:What is TRUTH? Quo es Veritas? Just as Pontius Pilate asked this question to Jesus\, the truth about many questions impacting society continues to be sought today. This week we will discuss the following topic:The TRUTH about Myself: The Interior Life\ \nSpeaker: TBA \nRegister today to secure your spot and receive a free drink ticket!
URL:https://www.brewcentralny.com/event/theology-on-tap/
LOCATION:Factory by Beer Tree Brew\, 511 Reynolds Road\, Johnson City\, NY\, 13790\, United States
ATTACH;FMTTYPE=image/jpeg:https://www.brewcentralny.com/wp-content/uploads/2023/02/44cf206c428ca493d4405b3324a996d6118b66852d812306e7befb44d203b877-rimg-w1200-h600-gmir.jpg
END:VEVENT
END:VCALENDAR